BEGIN:VCALENDAR
PRODID://WordPress//Event-Post-V5.9.2//EN
VERSION:2.0
BEGIN:VEVENT
SUMMARY:Holistic wellness cruise to bermuda
UID:https://wellnesshap.com/holistic-wellness-cruise-to-bermuda/
LOCATION:
DTSTAMP:20260521Z
DTSTART:20260521Z
DTEND:20260526Z
DESCRIPTION:Holistic Wellness Cruise – Independence of the Seas – May 21-26, 2026
A holistic wellness cruise to Bermuda ( from Cape Liberty, NJ/NY) offering
classes, events and workshops. May 21 -May 26, 2026
Independence of the Seas. Royal Caribbean Line
Learning, classes, workshops, events and networking.
Cabins (double occupancy pricing)2D – Balcony cabins mainly midship (55
cabins)-- $1726.17 pp4N – Oceanview Cabins (17 cabins) -- $1326.17 pp4V
– Inside Cabins (8 cabins) -- $946.17 ppDeposit is $250 per person, $500
per cabin double occupancy-- Final Payment date – January 20th,
2026Optional transportation -- round trip from CT to cruise port. At cost (
limousine bus)Accepting proposals for programs on boardItinerary –21 MAY
-Port Location CAPE LIBERTY, NJ (NY METRO) -Depart 3:00 PM22 MAY
-CRUISING23 MAY- ROYAL NAVAL DOCKYARD,BERMUDA - Arrive at 9:00 AM24 MAY
-ROYAL NAVAL DOCKYARD,BERMUDA – Depart at 5:00 PM25 MAY -CRUISING26 MAY
-CAPE LIBERTY, NJ (NY METRO)- Arrive at 7:00 AMPlease note itineraries may
change as conditions warrant.On board workshops, lectures and classes will
be sent when finalized.Now accepting proposals for events on board—send
to;yourholisticevents@gmail.com for consideration—thank you!!
Dockyard Terrace Sandy's, Sandys Parish MA01 Bermuda
https://www.eventbrite.com/e/holistic-body-mind-spirit-wellness-cruise-to-bermuda-tickets-1555078344189
END:VEVENT
END:VCALENDAR